BEGIN:VCALENDAR
VERSION:2.0
PRODID:-//AusschreibungsRadar//Timeline//DE
CALSCALE:GREGORIAN
METHOD:PUBLISH
X-WR-CALNAME:Projekt Deutschland – Bauarbeiten – Neubau der Feuerwache Schwedt/Od
X-WR-TIMEZONE:Europe/Berlin
BEGIN:VEVENT
UID:553af201f105d0b1@ausschreibungsradar.com
DTSTAMP:20260425T213338Z
DTSTART;VALUE=DATE:20240527
DTEND;VALUE=DATE:20240527
SUMMARY:Ausschreibung — Deutschland – Bauarbeiten – Neubau der Feuerwache Schwedt/Od
DESCRIPTION:Phase: Ausschreibung | Beschreibung: Offizielle Ausschreibung mit Bieterfrist. | Link: https://ausschreibungsradar.com/ausschreibung/ted-310879-2024/
URL:https://ausschreibungsradar.com/ausschreibung/ted-310879-2024/
END:VEVENT
BEGIN:VEVENT
UID:ff82ec0f32590ab7@ausschreibungsradar.com
DTSTAMP:20260425T213338Z
DTSTART;VALUE=DATE:20240624
DTEND;VALUE=DATE:20240624
SUMMARY:Ausschreibung — Deutschland – Bauarbeiten – Neubau der Feuerwache Schwedt/Od
DESCRIPTION:Phase: Ausschreibung | Beschreibung: Offizielle Ausschreibung mit Bieterfrist. | Link: https://ausschreibungsradar.com/ausschreibung/ted-371498-2024/
URL:https://ausschreibungsradar.com/ausschreibung/ted-371498-2024/
END:VEVENT
END:VCALENDAR
