BEGIN:VCALENDAR
VERSION:2.0
PRODID:-//AusschreibungsRadar//Timeline//DE
CALSCALE:GREGORIAN
METHOD:PUBLISH
X-WR-CALNAME:Projekt Deutschland-Geldern: Bauarbeiten
X-WR-TIMEZONE:Europe/Berlin
BEGIN:VEVENT
UID:8266ddcf6ca4b9f6@ausschreibungsradar.com
DTSTAMP:20260425T182214Z
DTSTART;VALUE=DATE:20230516
DTEND;VALUE=DATE:20230516
SUMMARY:Zuschlag — Deutschland-Geldern: Bauarbeiten
DESCRIPTION:Phase: Zuschlag | Beschreibung: Vergabeergebnis — Auftrag wurde erteilt oder Verfahren beendet. | Link: https://ausschreibungsradar.com/ausschreibung/ted-291730-2023/
URL:https://ausschreibungsradar.com/ausschreibung/ted-291730-2023/
END:VEVENT
BEGIN:VEVENT
UID:c237369a003be78e@ausschreibungsradar.com
DTSTAMP:20260425T182214Z
DTSTART;VALUE=DATE:20230519
DTEND;VALUE=DATE:20230519
SUMMARY:Ausschreibung — Deutschland-Geldern: Bauarbeiten
DESCRIPTION:Phase: Ausschreibung | Beschreibung: Offizielle Ausschreibung mit Bieterfrist. | Link: https://ausschreibungsradar.com/ausschreibung/ted-297009-2023/
URL:https://ausschreibungsradar.com/ausschreibung/ted-297009-2023/
END:VEVENT
BEGIN:VEVENT
UID:27230c96132dba88@ausschreibungsradar.com
DTSTAMP:20260425T182214Z
DTSTART;VALUE=DATE:20230526
DTEND;VALUE=DATE:20230526
SUMMARY:Zuschlag — Deutschland-Geldern: Bauarbeiten
DESCRIPTION:Phase: Zuschlag | Beschreibung: Vergabeergebnis — Auftrag wurde erteilt oder Verfahren beendet. | Link: https://ausschreibungsradar.com/ausschreibung/ted-314552-2023/ | Geschätzter Wert: 233180 €
URL:https://ausschreibungsradar.com/ausschreibung/ted-314552-2023/
END:VEVENT
END:VCALENDAR
