BEGIN:VCALENDAR
VERSION:2.0
PRODID:-//AusschreibungsRadar//Timeline//DE
CALSCALE:GREGORIAN
METHOD:PUBLISH
X-WR-CALNAME:Projekt Deutschland-Detmold: Einbau von Türen und Fenstern sowie Zub
X-WR-TIMEZONE:Europe/Berlin
BEGIN:VEVENT
UID:4f92be6b5f6995ea@ausschreibungsradar.com
DTSTAMP:20260425T122421Z
DTSTART;VALUE=DATE:20230515
DTEND;VALUE=DATE:20230515
SUMMARY:Ausschreibung — Deutschland-Detmold: Einbau von Türen und Fenstern sowie Zub
DESCRIPTION:Phase: Ausschreibung | Beschreibung: Offizielle Ausschreibung mit Bieterfrist. | Link: https://ausschreibungsradar.com/ausschreibung/ted-286869-2023/
URL:https://ausschreibungsradar.com/ausschreibung/ted-286869-2023/
END:VEVENT
BEGIN:VEVENT
UID:bfb0b50f5d57fa0e@ausschreibungsradar.com
DTSTAMP:20260425T122421Z
DTSTART;VALUE=DATE:20230609
DTEND;VALUE=DATE:20230609
SUMMARY:Zuschlag — Deutschland-Detmold: Einbau von Türen und Fenstern sowie Zub
DESCRIPTION:Phase: Zuschlag | Beschreibung: Vergabeergebnis — Auftrag wurde erteilt oder Verfahren beendet. | Link: https://ausschreibungsradar.com/ausschreibung/ted-341126-2023/ | Geschätzter Wert: 209758 €
URL:https://ausschreibungsradar.com/ausschreibung/ted-341126-2023/
END:VEVENT
END:VCALENDAR
