BEGIN:VCALENDAR
VERSION:2.0
PRODID:-//AusschreibungsRadar//Timeline//DE
CALSCALE:GREGORIAN
METHOD:PUBLISH
X-WR-CALNAME:Projekt Deutschland – Gipskartonarbeiten – Trockenbauarbeiten mit In
X-WR-TIMEZONE:Europe/Berlin
BEGIN:VEVENT
UID:573f97c92197f49f@ausschreibungsradar.com
DTSTAMP:20260425T213110Z
DTSTART;VALUE=DATE:20240116
DTEND;VALUE=DATE:20240116
SUMMARY:Ausschreibung — Deutschland – Gipskartonarbeiten – Trockenbauarbeiten mit In
DESCRIPTION:Phase: Ausschreibung | Beschreibung: Offizielle Ausschreibung mit Bieterfrist. | Link: https://ausschreibungsradar.com/ausschreibung/5cd9d816-2efc-4446-a686-04ef08166cf8/
URL:https://ausschreibungsradar.com/ausschreibung/5cd9d816-2efc-4446-a686-04ef08166cf8/
END:VEVENT
BEGIN:VEVENT
UID:7e2f9865a172dd6e@ausschreibungsradar.com
DTSTAMP:20260425T213110Z
DTSTART;VALUE=DATE:20240118
DTEND;VALUE=DATE:20240118
SUMMARY:Ausschreibung — Deutschland – Gipskartonarbeiten – Trockenbauarbeiten mit In
DESCRIPTION:Phase: Ausschreibung | Beschreibung: Offizielle Ausschreibung mit Bieterfrist. | Link: https://ausschreibungsradar.com/ausschreibung/ted-34618-2024/
URL:https://ausschreibungsradar.com/ausschreibung/ted-34618-2024/
END:VEVENT
END:VCALENDAR
