BEGIN:VCALENDAR
VERSION:2.0
PRODID:-//AusschreibungsRadar//Timeline//DE
CALSCALE:GREGORIAN
METHOD:PUBLISH
X-WR-CALNAME:Projekt Deutschland-Detmold: Landschaftsgärtnerische Arbeiten
X-WR-TIMEZONE:Europe/Berlin
BEGIN:VEVENT
UID:ef446371e81a2cf2@ausschreibungsradar.com
DTSTAMP:20260425T231004Z
DTSTART;VALUE=DATE:20230621
DTEND;VALUE=DATE:20230621
SUMMARY:Zuschlag — Deutschland-Detmold: Landschaftsgärtnerische Arbeiten
DESCRIPTION:Phase: Zuschlag | Beschreibung: Vergabeergebnis — Auftrag wurde erteilt oder Verfahren beendet. | Link: https://ausschreibungsradar.com/ausschreibung/ted-368503-2023/
URL:https://ausschreibungsradar.com/ausschreibung/ted-368503-2023/
END:VEVENT
BEGIN:VEVENT
UID:aaa1a9b70107ab3d@ausschreibungsradar.com
DTSTAMP:20260425T231004Z
DTSTART;VALUE=DATE:20230721
DTEND;VALUE=DATE:20230721
SUMMARY:Zuschlag — Deutschland-Detmold: Landschaftsgärtnerische Arbeiten
DESCRIPTION:Phase: Zuschlag | Beschreibung: Vergabeergebnis — Auftrag wurde erteilt oder Verfahren beendet. | Link: https://ausschreibungsradar.com/ausschreibung/ted-445464-2023/
URL:https://ausschreibungsradar.com/ausschreibung/ted-445464-2023/
END:VEVENT
END:VCALENDAR
