BEGIN:VCALENDAR
VERSION:2.0
PRODID:-//AusschreibungsRadar//Timeline//DE
CALSCALE:GREGORIAN
METHOD:PUBLISH
X-WR-CALNAME:Projekt Deutschland-Bad Neustadt an der Saale: Boden- und Fliesenarb
X-WR-TIMEZONE:Europe/Berlin
BEGIN:VEVENT
UID:ad7ae8fc69999c1b@ausschreibungsradar.com
DTSTAMP:20260426T035139Z
DTSTART;VALUE=DATE:20230721
DTEND;VALUE=DATE:20230721
SUMMARY:Vorinformation — Deutschland-Bad Neustadt an der Saale: Boden- und Fliesenarb
DESCRIPTION:Phase: Vorinformation | Beschreibung: Vorab-Ankündigung der Vergabestelle — keine verbindliche Ausschreibung. | Link: https://ausschreibungsradar.com/ausschreibung/ted-441519-2023/
URL:https://ausschreibungsradar.com/ausschreibung/ted-441519-2023/
END:VEVENT
BEGIN:VEVENT
UID:1951de899afa818a@ausschreibungsradar.com
DTSTAMP:20260426T035139Z
DTSTART;VALUE=DATE:20230721
DTEND;VALUE=DATE:20230721
SUMMARY:Vorinformation — Deutschland-Bad Neustadt an der Saale: Boden- und Fliesenarb
DESCRIPTION:Phase: Vorinformation | Beschreibung: Vorab-Ankündigung der Vergabestelle — keine verbindliche Ausschreibung. | Link: https://ausschreibungsradar.com/ausschreibung/ted-445963-2023/
URL:https://ausschreibungsradar.com/ausschreibung/ted-445963-2023/
END:VEVENT
END:VCALENDAR
