BEGIN:VCALENDAR
VERSION:2.0
PRODID:-//AusschreibungsRadar//Timeline//DE
CALSCALE:GREGORIAN
METHOD:PUBLISH
X-WR-CALNAME:Projekt Deutschland – Mittelspannungsarbeiten – Stationsgebäude E-Ze
X-WR-TIMEZONE:Europe/Berlin
BEGIN:VEVENT
UID:efd51d6cabe68252@ausschreibungsradar.com
DTSTAMP:20260426T002838Z
DTSTART;VALUE=DATE:20240812
DTEND;VALUE=DATE:20240812
SUMMARY:Ausschreibung — Deutschland – Mittelspannungsarbeiten – Stationsgebäude E-Ze
DESCRIPTION:Phase: Ausschreibung | Beschreibung: Offizielle Ausschreibung mit Bieterfrist. | Link: https://ausschreibungsradar.com/ausschreibung/ted-483894-2024/
URL:https://ausschreibungsradar.com/ausschreibung/ted-483894-2024/
END:VEVENT
BEGIN:VEVENT
UID:ae3045ce3d8dc40e@ausschreibungsradar.com
DTSTAMP:20260426T002838Z
DTSTART;VALUE=DATE:20240911
DTEND;VALUE=DATE:20240911
SUMMARY:Ausschreibung — Deutschland – Mittelspannungsarbeiten – Stationsgebäude E-Ze
DESCRIPTION:Phase: Ausschreibung | Beschreibung: Offizielle Ausschreibung mit Bieterfrist. | Link: https://ausschreibungsradar.com/ausschreibung/ted-544072-2024/
URL:https://ausschreibungsradar.com/ausschreibung/ted-544072-2024/
END:VEVENT
END:VCALENDAR
