BEGIN:VCALENDAR
VERSION:2.0
PRODID:-//AusschreibungsRadar//Timeline//DE
CALSCALE:GREGORIAN
METHOD:PUBLISH
X-WR-CALNAME:Projekt Deutschland-Geldern: Möbel (einschließlich Büromöbel), Zubeh
X-WR-TIMEZONE:Europe/Berlin
BEGIN:VEVENT
UID:a8f88f142811b74c@ausschreibungsradar.com
DTSTAMP:20260425T032619Z
DTSTART;VALUE=DATE:20230814
DTEND;VALUE=DATE:20230814
SUMMARY:Ausschreibung — Deutschland-Geldern: Möbel (einschließlich Büromöbel)\, Zubeh
DESCRIPTION:Phase: Ausschreibung | Beschreibung: Offizielle Ausschreibung mit Bieterfrist. | Link: https://ausschreibungsradar.com/ausschreibung/ted-495748-2023/
URL:https://ausschreibungsradar.com/ausschreibung/ted-495748-2023/
END:VEVENT
BEGIN:VEVENT
UID:1ecec8c87756dc7d@ausschreibungsradar.com
DTSTAMP:20260425T032619Z
DTSTART;VALUE=DATE:20230814
DTEND;VALUE=DATE:20230814
SUMMARY:Ausschreibung — Deutschland-Geldern: Möbel (einschließlich Büromöbel)\, Zubeh
DESCRIPTION:Phase: Ausschreibung | Beschreibung: Offizielle Ausschreibung mit Bieterfrist. | Link: https://ausschreibungsradar.com/ausschreibung/ted-497113-2023/
URL:https://ausschreibungsradar.com/ausschreibung/ted-497113-2023/
END:VEVENT
END:VCALENDAR
