BEGIN:VCALENDAR
VERSION:2.0
PRODID:-//AusschreibungsRadar//Timeline//DE
CALSCALE:GREGORIAN
METHOD:PUBLISH
X-WR-CALNAME:Projekt Deutschland-Geldern: Dienstleistungen von Ingenieurbüros
X-WR-TIMEZONE:Europe/Berlin
BEGIN:VEVENT
UID:c7776e82cb175a6d@ausschreibungsradar.com
DTSTAMP:20260425T225640Z
DTSTART;VALUE=DATE:20230818
DTEND;VALUE=DATE:20230818
SUMMARY:Zuschlag — Deutschland-Geldern: Dienstleistungen von Ingenieurbüros
DESCRIPTION:Phase: Zuschlag | Beschreibung: Vergabeergebnis — Auftrag wurde erteilt oder Verfahren beendet. | Link: https://ausschreibungsradar.com/ausschreibung/ted-501255-2023/ | Geschätzter Wert: 307102 €
URL:https://ausschreibungsradar.com/ausschreibung/ted-501255-2023/
END:VEVENT
BEGIN:VEVENT
UID:6c984b7443f17144@ausschreibungsradar.com
DTSTAMP:20260425T225640Z
DTSTART;VALUE=DATE:20230818
DTEND;VALUE=DATE:20230818
SUMMARY:Zuschlag — Deutschland-Geldern: Dienstleistungen von Ingenieurbüros
DESCRIPTION:Phase: Zuschlag | Beschreibung: Vergabeergebnis — Auftrag wurde erteilt oder Verfahren beendet. | Link: https://ausschreibungsradar.com/ausschreibung/ted-502569-2023/
URL:https://ausschreibungsradar.com/ausschreibung/ted-502569-2023/
END:VEVENT
END:VCALENDAR
