BEGIN:VCALENDAR
VERSION:2.0
PRODID:-//AusschreibungsRadar//Timeline//DE
CALSCALE:GREGORIAN
METHOD:PUBLISH
X-WR-CALNAME:Projekt Deutschland-Berlin: Dienstleistungen im Bereich Forschung un
X-WR-TIMEZONE:Europe/Berlin
BEGIN:VEVENT
UID:428c7b4d05a5ac1a@ausschreibungsradar.com
DTSTAMP:20260426T002404Z
DTSTART;VALUE=DATE:20230818
DTEND;VALUE=DATE:20230818
SUMMARY:Ausschreibung — Deutschland-Berlin: Dienstleistungen im Bereich Forschung un
DESCRIPTION:Phase: Ausschreibung | Beschreibung: Offizielle Ausschreibung mit Bieterfrist. | Link: https://ausschreibungsradar.com/ausschreibung/ted-501056-2023/
URL:https://ausschreibungsradar.com/ausschreibung/ted-501056-2023/
END:VEVENT
BEGIN:VEVENT
UID:7d7e4ea1aaf5dcd1@ausschreibungsradar.com
DTSTAMP:20260426T002404Z
DTSTART;VALUE=DATE:20230823
DTEND;VALUE=DATE:20230823
SUMMARY:Ausschreibung — Deutschland-Berlin: Dienstleistungen im Bereich Forschung un
DESCRIPTION:Phase: Ausschreibung | Beschreibung: Offizielle Ausschreibung mit Bieterfrist. | Link: https://ausschreibungsradar.com/ausschreibung/ted-509048-2023/
URL:https://ausschreibungsradar.com/ausschreibung/ted-509048-2023/
END:VEVENT
END:VCALENDAR
