BEGIN:VCALENDAR
VERSION:2.0
PRODID:-//AusschreibungsRadar//Timeline//DE
CALSCALE:GREGORIAN
METHOD:PUBLISH
X-WR-CALNAME:Projekt Deutschland-Halle: Beratung im Bereich Energieeinsparung
X-WR-TIMEZONE:Europe/Berlin
BEGIN:VEVENT
UID:8d181d5aa1b237e2@ausschreibungsradar.com
DTSTAMP:20260426T003904Z
DTSTART;VALUE=DATE:20230901
DTEND;VALUE=DATE:20230901
SUMMARY:Zuschlag — Deutschland-Halle: Beratung im Bereich Energieeinsparung
DESCRIPTION:Phase: Zuschlag | Beschreibung: Vergabeergebnis — Auftrag wurde erteilt oder Verfahren beendet. | Link: https://ausschreibungsradar.com/ausschreibung/ted-528399-2023/
URL:https://ausschreibungsradar.com/ausschreibung/ted-528399-2023/
END:VEVENT
BEGIN:VEVENT
UID:6d81bb610fc87fc9@ausschreibungsradar.com
DTSTAMP:20260426T003904Z
DTSTART;VALUE=DATE:20230913
DTEND;VALUE=DATE:20230913
SUMMARY:Ausschreibung — Deutschland-Halle: Beratung im Bereich Energieeinsparung
DESCRIPTION:Phase: Ausschreibung | Beschreibung: Offizielle Ausschreibung mit Bieterfrist. | Link: https://ausschreibungsradar.com/ausschreibung/ted-551675-2023/
URL:https://ausschreibungsradar.com/ausschreibung/ted-551675-2023/
END:VEVENT
BEGIN:VEVENT
UID:69d9528a94881c83@ausschreibungsradar.com
DTSTAMP:20260426T003904Z
DTSTART;VALUE=DATE:20230922
DTEND;VALUE=DATE:20230922
SUMMARY:Zuschlag — Deutschland-Halle: Beratung im Bereich Energieeinsparung
DESCRIPTION:Phase: Zuschlag | Beschreibung: Vergabeergebnis — Auftrag wurde erteilt oder Verfahren beendet. | Link: https://ausschreibungsradar.com/ausschreibung/ted-572394-2023/
URL:https://ausschreibungsradar.com/ausschreibung/ted-572394-2023/
END:VEVENT
END:VCALENDAR
