BEGIN:VCALENDAR
VERSION:2.0
PRODID:-//AusschreibungsRadar//Timeline//DE
CALSCALE:GREGORIAN
METHOD:PUBLISH
X-WR-CALNAME:Projekt Deutschland – Installation von Heizungs-, Lüftungs- und Klim
X-WR-TIMEZONE:Europe/Berlin
BEGIN:VEVENT
UID:428b22e8da87433b@ausschreibungsradar.com
DTSTAMP:20260425T140831Z
DTSTART;VALUE=DATE:20251001
DTEND;VALUE=DATE:20251001
SUMMARY:Ausschreibung — Deutschland – Installation von Heizungs-\, Lüftungs- und Klim
DESCRIPTION:Phase: Ausschreibung | Beschreibung: Offizielle Ausschreibung mit Bieterfrist. | Link: https://ausschreibungsradar.com/ausschreibung/ted-640840-2025/
URL:https://ausschreibungsradar.com/ausschreibung/ted-640840-2025/
END:VEVENT
BEGIN:VEVENT
UID:b14f5c4e337a050e@ausschreibungsradar.com
DTSTAMP:20260425T140831Z
DTSTART;VALUE=DATE:20251001
DTEND;VALUE=DATE:20251001
SUMMARY:Ausschreibung — Deutschland – Installation von Heizungs-\, Lüftungs- und Klim
DESCRIPTION:Phase: Ausschreibung | Beschreibung: Offizielle Ausschreibung mit Bieterfrist. | Link: https://ausschreibungsradar.com/ausschreibung/ted-643167-2025/
URL:https://ausschreibungsradar.com/ausschreibung/ted-643167-2025/
END:VEVENT
END:VCALENDAR
