BEGIN:VCALENDAR
VERSION:2.0
PRODID:-//AusschreibungsRadar//Timeline//DE
CALSCALE:GREGORIAN
METHOD:PUBLISH
X-WR-CALNAME:Projekt Deutschland – IT-Dienste: Beratung, Software-Entwicklung, In
X-WR-TIMEZONE:Europe/Berlin
BEGIN:VEVENT
UID:27a4fa46157347f0@ausschreibungsradar.com
DTSTAMP:20260425T185950Z
DTSTART;VALUE=DATE:20250930
DTEND;VALUE=DATE:20250930
SUMMARY:Ausschreibung — Deutschland – IT-Dienste: Beratung\, Software-Entwicklung\, In
DESCRIPTION:Phase: Ausschreibung | Beschreibung: Offizielle Ausschreibung mit Bieterfrist. | Link: https://ausschreibungsradar.com/ausschreibung/df44064a-9db7-4a4d-a71d-4ad2c2866e90/
URL:https://ausschreibungsradar.com/ausschreibung/df44064a-9db7-4a4d-a71d-4ad2c2866e90/
END:VEVENT
BEGIN:VEVENT
UID:0a91432150f1149a@ausschreibungsradar.com
DTSTAMP:20260425T185950Z
DTSTART;VALUE=DATE:20251001
DTEND;VALUE=DATE:20251001
SUMMARY:Ausschreibung — Deutschland – IT-Dienste: Beratung\, Software-Entwicklung\, In
DESCRIPTION:Phase: Ausschreibung | Beschreibung: Offizielle Ausschreibung mit Bieterfrist. | Link: https://ausschreibungsradar.com/ausschreibung/ted-641742-2025/
URL:https://ausschreibungsradar.com/ausschreibung/ted-641742-2025/
END:VEVENT
END:VCALENDAR
