BEGIN:VCALENDAR
VERSION:2.0
PRODID:-//AusschreibungsRadar//Timeline//DE
CALSCALE:GREGORIAN
METHOD:PUBLISH
X-WR-CALNAME:Projekt Deutschland – Bauarbeiten – 055-25-00431 - Universität Pader
X-WR-TIMEZONE:Europe/Berlin
BEGIN:VEVENT
UID:c2be46fa01c99fb9@ausschreibungsradar.com
DTSTAMP:20260425T213111Z
DTSTART;VALUE=DATE:20250930
DTEND;VALUE=DATE:20250930
SUMMARY:Zuschlag — Deutschland – Bauarbeiten – 055-25-00431 - Universität Pader
DESCRIPTION:Phase: Zuschlag | Beschreibung: Vergabeergebnis — Auftrag wurde erteilt oder Verfahren beendet. | Link: https://ausschreibungsradar.com/ausschreibung/791a3ad1-49c2-4604-b6a9-206be75c7b28/
URL:https://ausschreibungsradar.com/ausschreibung/791a3ad1-49c2-4604-b6a9-206be75c7b28/
END:VEVENT
BEGIN:VEVENT
UID:f6673f9119672747@ausschreibungsradar.com
DTSTAMP:20260425T213111Z
DTSTART;VALUE=DATE:20251001
DTEND;VALUE=DATE:20251001
SUMMARY:Zuschlag — Deutschland – Bauarbeiten – 055-25-00431 - Universität Pader
DESCRIPTION:Phase: Zuschlag | Beschreibung: Vergabeergebnis — Auftrag wurde erteilt oder Verfahren beendet. | Link: https://ausschreibungsradar.com/ausschreibung/ted-641899-2025/ | Geschätzter Wert: -1 €
URL:https://ausschreibungsradar.com/ausschreibung/ted-641899-2025/
END:VEVENT
BEGIN:VEVENT
UID:2f458f8fe187ef06@ausschreibungsradar.com
DTSTAMP:20260425T213111Z
DTSTART;VALUE=DATE:20251013
DTEND;VALUE=DATE:20251013
SUMMARY:Ausschreibung — Deutschland – Bauarbeiten – 055-25-00431 - Universität Pader
DESCRIPTION:Phase: Ausschreibung | Beschreibung: Offizielle Ausschreibung mit Bieterfrist. | Link: https://ausschreibungsradar.com/ausschreibung/ted-669413-2025/
URL:https://ausschreibungsradar.com/ausschreibung/ted-669413-2025/
END:VEVENT
END:VCALENDAR
