BEGIN:VCALENDAR
VERSION:2.0
PRODID:-//AusschreibungsRadar//Timeline//DE
CALSCALE:GREGORIAN
METHOD:PUBLISH
X-WR-CALNAME:Projekt Deutschland – Druckereidienste und verbundene Dienstleistung
X-WR-TIMEZONE:Europe/Berlin
BEGIN:VEVENT
UID:8447ecb317386692@ausschreibungsradar.com
DTSTAMP:20260424T133237Z
DTSTART;VALUE=DATE:20251002
DTEND;VALUE=DATE:20251002
SUMMARY:Zuschlag — Deutschland – Druckereidienste und verbundene Dienstleistung
DESCRIPTION:Phase: Zuschlag | Beschreibung: Vergabeergebnis — Auftrag wurde erteilt oder Verfahren beendet. | Link: https://ausschreibungsradar.com/ausschreibung/ted-643252-2025/
URL:https://ausschreibungsradar.com/ausschreibung/ted-643252-2025/
END:VEVENT
BEGIN:VEVENT
UID:ae0ab0f918508584@ausschreibungsradar.com
DTSTAMP:20260424T133237Z
DTSTART;VALUE=DATE:20251002
DTEND;VALUE=DATE:20251002
SUMMARY:Zuschlag — Deutschland – Druckereidienste und verbundene Dienstleistung
DESCRIPTION:Phase: Zuschlag | Beschreibung: Vergabeergebnis — Auftrag wurde erteilt oder Verfahren beendet. | Link: https://ausschreibungsradar.com/ausschreibung/c9089314-67a8-4289-a419-c8ca4d143415/
URL:https://ausschreibungsradar.com/ausschreibung/c9089314-67a8-4289-a419-c8ca4d143415/
END:VEVENT
BEGIN:VEVENT
UID:90152f0ff0a23a95@ausschreibungsradar.com
DTSTAMP:20260424T133237Z
DTSTART;VALUE=DATE:20251003
DTEND;VALUE=DATE:20251003
SUMMARY:Zuschlag — Deutschland – Druckereidienste und verbundene Dienstleistung
DESCRIPTION:Phase: Zuschlag | Beschreibung: Vergabeergebnis — Auftrag wurde erteilt oder Verfahren beendet. | Link: https://ausschreibungsradar.com/ausschreibung/ted-648165-2025/ | Geschätzter Wert: -1 €
URL:https://ausschreibungsradar.com/ausschreibung/ted-648165-2025/
END:VEVENT
BEGIN:VEVENT
UID:5b2279fb3368bd77@ausschreibungsradar.com
DTSTAMP:20260424T133237Z
DTSTART;VALUE=DATE:20251003
DTEND;VALUE=DATE:20251003
SUMMARY:Zuschlag — Deutschland – Druckereidienste und verbundene Dienstleistung
DESCRIPTION:Phase: Zuschlag | Beschreibung: Vergabeergebnis — Auftrag wurde erteilt oder Verfahren beendet. | Link: https://ausschreibungsradar.com/ausschreibung/ted-647016-2025/
URL:https://ausschreibungsradar.com/ausschreibung/ted-647016-2025/
END:VEVENT
END:VCALENDAR
