BEGIN:VCALENDAR
VERSION:2.0
PRODID:-//AusschreibungsRadar//Timeline//DE
CALSCALE:GREGORIAN
METHOD:PUBLISH
X-WR-CALNAME:Projekt Deutschland – Dienstleistungen von Ingenieurbüros – Ermittlu
X-WR-TIMEZONE:Europe/Berlin
BEGIN:VEVENT
UID:1f798824f7b78a67@ausschreibungsradar.com
DTSTAMP:20260424T103341Z
DTSTART;VALUE=DATE:20251002
DTEND;VALUE=DATE:20251002
SUMMARY:Ausschreibung — Deutschland – Dienstleistungen von Ingenieurbüros – Ermittlu
DESCRIPTION:Phase: Ausschreibung | Beschreibung: Offizielle Ausschreibung mit Bieterfrist. | Link: https://ausschreibungsradar.com/ausschreibung/cd1e5311-f226-4ded-af8d-f8b0ac54ee51/
URL:https://ausschreibungsradar.com/ausschreibung/cd1e5311-f226-4ded-af8d-f8b0ac54ee51/
END:VEVENT
BEGIN:VEVENT
UID:d3a106466e03175c@ausschreibungsradar.com
DTSTAMP:20260424T103341Z
DTSTART;VALUE=DATE:20251003
DTEND;VALUE=DATE:20251003
SUMMARY:Ausschreibung — Deutschland – Dienstleistungen von Ingenieurbüros – Ermittlu
DESCRIPTION:Phase: Ausschreibung | Beschreibung: Offizielle Ausschreibung mit Bieterfrist. | Link: https://ausschreibungsradar.com/ausschreibung/ted-650008-2025/
URL:https://ausschreibungsradar.com/ausschreibung/ted-650008-2025/
END:VEVENT
END:VCALENDAR
