BEGIN:VCALENDAR
VERSION:2.0
PRODID:-//AusschreibungsRadar//Timeline//DE
CALSCALE:GREGORIAN
METHOD:PUBLISH
X-WR-CALNAME:Projekt Deutschland – Dienstleistungen in der Tragwerksplanung – 25D
X-WR-TIMEZONE:Europe/Berlin
BEGIN:VEVENT
UID:92e0d1ddaf67571e@ausschreibungsradar.com
DTSTAMP:20260425T213100Z
DTSTART;VALUE=DATE:20251001
DTEND;VALUE=DATE:20251001
SUMMARY:Ausschreibung — Deutschland – Dienstleistungen in der Tragwerksplanung – 25D
DESCRIPTION:Phase: Ausschreibung | Beschreibung: Offizielle Ausschreibung mit Bieterfrist. | Link: https://ausschreibungsradar.com/ausschreibung/b62b70b9-c650-47c9-9652-b69987b974cb/
URL:https://ausschreibungsradar.com/ausschreibung/b62b70b9-c650-47c9-9652-b69987b974cb/
END:VEVENT
BEGIN:VEVENT
UID:2b16f47bd767a92a@ausschreibungsradar.com
DTSTAMP:20260425T213100Z
DTSTART;VALUE=DATE:20251002
DTEND;VALUE=DATE:20251002
SUMMARY:Zuschlag — Deutschland – Dienstleistungen in der Tragwerksplanung – 25D
DESCRIPTION:Phase: Zuschlag | Beschreibung: Vergabeergebnis — Auftrag wurde erteilt oder Verfahren beendet. | Link: https://ausschreibungsradar.com/ausschreibung/ted-644475-2025/
URL:https://ausschreibungsradar.com/ausschreibung/ted-644475-2025/
END:VEVENT
BEGIN:VEVENT
UID:a90592d7b43167db@ausschreibungsradar.com
DTSTAMP:20260425T213100Z
DTSTART;VALUE=DATE:20251003
DTEND;VALUE=DATE:20251003
SUMMARY:Ausschreibung — Deutschland – Dienstleistungen in der Tragwerksplanung – 25D
DESCRIPTION:Phase: Ausschreibung | Beschreibung: Offizielle Ausschreibung mit Bieterfrist. | Link: https://ausschreibungsradar.com/ausschreibung/ted-650323-2025/
URL:https://ausschreibungsradar.com/ausschreibung/ted-650323-2025/
END:VEVENT
END:VCALENDAR
