BEGIN:VCALENDAR
VERSION:2.0
PRODID:-//AusschreibungsRadar//Timeline//DE
CALSCALE:GREGORIAN
METHOD:PUBLISH
X-WR-CALNAME:Projekt Deutschland – Planungsleistungen im Bauwesen – Erschließung 
X-WR-TIMEZONE:Europe/Berlin
BEGIN:VEVENT
UID:078f4a7bc14b9cef@ausschreibungsradar.com
DTSTAMP:20260426T002414Z
DTSTART;VALUE=DATE:20251002
DTEND;VALUE=DATE:20251002
SUMMARY:Ausschreibung — Deutschland – Planungsleistungen im Bauwesen – Erschließung 
DESCRIPTION:Phase: Ausschreibung | Beschreibung: Offizielle Ausschreibung mit Bieterfrist. | Link: https://ausschreibungsradar.com/ausschreibung/cf353915-c198-4cb9-a7fe-40435e4ea989/
URL:https://ausschreibungsradar.com/ausschreibung/cf353915-c198-4cb9-a7fe-40435e4ea989/
END:VEVENT
BEGIN:VEVENT
UID:b8fdde17f2d6b552@ausschreibungsradar.com
DTSTAMP:20260426T002414Z
DTSTART;VALUE=DATE:20251006
DTEND;VALUE=DATE:20251006
SUMMARY:Ausschreibung — Deutschland – Planungsleistungen im Bauwesen – Erschließung 
DESCRIPTION:Phase: Ausschreibung | Beschreibung: Offizielle Ausschreibung mit Bieterfrist. | Link: https://ausschreibungsradar.com/ausschreibung/ted-650798-2025/
URL:https://ausschreibungsradar.com/ausschreibung/ted-650798-2025/
END:VEVENT
END:VCALENDAR
