BEGIN:VCALENDAR
VERSION:2.0
PRODID:-//AusschreibungsRadar//Timeline//DE
CALSCALE:GREGORIAN
METHOD:PUBLISH
X-WR-CALNAME:Projekt Deutschland – Gebäudereinigung – Gebäudereinigung Gemeinde O
X-WR-TIMEZONE:Europe/Berlin
BEGIN:VEVENT
UID:92721e57e82d7bd4@ausschreibungsradar.com
DTSTAMP:20260425T213104Z
DTSTART;VALUE=DATE:20251002
DTEND;VALUE=DATE:20251002
SUMMARY:Zuschlag — Deutschland – Gebäudereinigung – Gebäudereinigung Gemeinde O
DESCRIPTION:Phase: Zuschlag | Beschreibung: Vergabeergebnis — Auftrag wurde erteilt oder Verfahren beendet. | Link: https://ausschreibungsradar.com/ausschreibung/6e7080f2-821b-4d43-bffd-9e45986896f8/
URL:https://ausschreibungsradar.com/ausschreibung/6e7080f2-821b-4d43-bffd-9e45986896f8/
END:VEVENT
BEGIN:VEVENT
UID:705155ac8764be9a@ausschreibungsradar.com
DTSTAMP:20260425T213104Z
DTSTART;VALUE=DATE:20251006
DTEND;VALUE=DATE:20251006
SUMMARY:Zuschlag — Deutschland – Gebäudereinigung – Gebäudereinigung Gemeinde O
DESCRIPTION:Phase: Zuschlag | Beschreibung: Vergabeergebnis — Auftrag wurde erteilt oder Verfahren beendet. | Link: https://ausschreibungsradar.com/ausschreibung/ted-651541-2025/ | Geschätzter Wert: 213100 €
URL:https://ausschreibungsradar.com/ausschreibung/ted-651541-2025/
END:VEVENT
END:VCALENDAR
