BEGIN:VCALENDAR
VERSION:2.0
PRODID:-//AusschreibungsRadar//Timeline//DE
CALSCALE:GREGORIAN
METHOD:PUBLISH
X-WR-CALNAME:Projekt Deutschland – Blechdachdeckarbeiten – Gemeinde Strullendorf:
X-WR-TIMEZONE:Europe/Berlin
BEGIN:VEVENT
UID:36139872a63b5c29@ausschreibungsradar.com
DTSTAMP:20260424T030250Z
DTSTART;VALUE=DATE:20250908
DTEND;VALUE=DATE:20250908
SUMMARY:Ausschreibung — Deutschland – Blechdachdeckarbeiten – Gemeinde Strullendorf:
DESCRIPTION:Phase: Ausschreibung | Beschreibung: Offizielle Ausschreibung mit Bieterfrist. | Link: https://ausschreibungsradar.com/ausschreibung/051b89b8-d477-4b44-96b3-350efaa3a9b7/
URL:https://ausschreibungsradar.com/ausschreibung/051b89b8-d477-4b44-96b3-350efaa3a9b7/
END:VEVENT
BEGIN:VEVENT
UID:31cdfa52581cab28@ausschreibungsradar.com
DTSTAMP:20260424T030250Z
DTSTART;VALUE=DATE:20250908
DTEND;VALUE=DATE:20250908
SUMMARY:Ausschreibung — Deutschland – Blechdachdeckarbeiten – Gemeinde Strullendorf:
DESCRIPTION:Phase: Ausschreibung | Beschreibung: Offizielle Ausschreibung mit Bieterfrist. | Link: https://ausschreibungsradar.com/ausschreibung/dd3ee158-091b-427e-895f-b2d12f071d75/
URL:https://ausschreibungsradar.com/ausschreibung/dd3ee158-091b-427e-895f-b2d12f071d75/
END:VEVENT
BEGIN:VEVENT
UID:24a22d912697cc36@ausschreibungsradar.com
DTSTAMP:20260424T030250Z
DTSTART;VALUE=DATE:20250908
DTEND;VALUE=DATE:20250908
SUMMARY:Ausschreibung — Deutschland – Blechdachdeckarbeiten – Gemeinde Strullendorf:
DESCRIPTION:Phase: Ausschreibung | Beschreibung: Offizielle Ausschreibung mit Bieterfrist. | Link: https://ausschreibungsradar.com/ausschreibung/63fc6a68-e2aa-4b6b-9ff1-379b9c14483a/
URL:https://ausschreibungsradar.com/ausschreibung/63fc6a68-e2aa-4b6b-9ff1-379b9c14483a/
END:VEVENT
BEGIN:VEVENT
UID:dea9d91f1c0d4989@ausschreibungsradar.com
DTSTAMP:20260424T030250Z
DTSTART;VALUE=DATE:20251002
DTEND;VALUE=DATE:20251002
SUMMARY:Ausschreibung — Deutschland – Blechdachdeckarbeiten – Gemeinde Strullendorf:
DESCRIPTION:Phase: Ausschreibung | Beschreibung: Offizielle Ausschreibung mit Bieterfrist. | Link: https://ausschreibungsradar.com/ausschreibung/aa38078d-888c-4b9e-915a-692c23d3dcd9/
URL:https://ausschreibungsradar.com/ausschreibung/aa38078d-888c-4b9e-915a-692c23d3dcd9/
END:VEVENT
BEGIN:VEVENT
UID:ca30d62dcbacfb54@ausschreibungsradar.com
DTSTAMP:20260424T030250Z
DTSTART;VALUE=DATE:20251006
DTEND;VALUE=DATE:20251006
SUMMARY:Ausschreibung — Deutschland – Blechdachdeckarbeiten – Gemeinde Strullendorf:
DESCRIPTION:Phase: Ausschreibung | Beschreibung: Offizielle Ausschreibung mit Bieterfrist. | Link: https://ausschreibungsradar.com/ausschreibung/ted-652279-2025/
URL:https://ausschreibungsradar.com/ausschreibung/ted-652279-2025/
END:VEVENT
END:VCALENDAR
