BEGIN:VCALENDAR
VERSION:2.0
PRODID:-//AusschreibungsRadar//Timeline//DE
CALSCALE:GREGORIAN
METHOD:PUBLISH
X-WR-CALNAME:Projekt Deutschland – Dienstleistungen in der Tragwerksplanung – Fac
X-WR-TIMEZONE:Europe/Berlin
BEGIN:VEVENT
UID:e197134341857405@ausschreibungsradar.com
DTSTAMP:20260424T074425Z
DTSTART;VALUE=DATE:20251006
DTEND;VALUE=DATE:20251006
SUMMARY:Zuschlag — Deutschland – Dienstleistungen in der Tragwerksplanung – Fac
DESCRIPTION:Phase: Zuschlag | Beschreibung: Vergabeergebnis — Auftrag wurde erteilt oder Verfahren beendet. | Link: https://ausschreibungsradar.com/ausschreibung/fa0a98ee-4615-4d5b-a6af-0df5527a3d0e/
URL:https://ausschreibungsradar.com/ausschreibung/fa0a98ee-4615-4d5b-a6af-0df5527a3d0e/
END:VEVENT
BEGIN:VEVENT
UID:840f9d620bcbd311@ausschreibungsradar.com
DTSTAMP:20260424T074425Z
DTSTART;VALUE=DATE:20251007
DTEND;VALUE=DATE:20251007
SUMMARY:Zuschlag — Deutschland – Dienstleistungen in der Tragwerksplanung – Fac
DESCRIPTION:Phase: Zuschlag | Beschreibung: Vergabeergebnis — Auftrag wurde erteilt oder Verfahren beendet. | Link: https://ausschreibungsradar.com/ausschreibung/ted-657339-2025/ | Geschätzter Wert: -1 €
URL:https://ausschreibungsradar.com/ausschreibung/ted-657339-2025/
END:VEVENT
END:VCALENDAR
