BEGIN:VCALENDAR
VERSION:2.0
PRODID:-//AusschreibungsRadar//Timeline//DE
CALSCALE:GREGORIAN
METHOD:PUBLISH
X-WR-CALNAME:Projekt Deutschland – Bauarbeiten – Schleswiger Stadtwerke - Kläranl
X-WR-TIMEZONE:Europe/Berlin
BEGIN:VEVENT
UID:82f329e0ab074df7@ausschreibungsradar.com
DTSTAMP:20260424T133258Z
DTSTART;VALUE=DATE:20251009
DTEND;VALUE=DATE:20251009
SUMMARY:Ausschreibung — Deutschland – Bauarbeiten – Schleswiger Stadtwerke - Kläranl
DESCRIPTION:Phase: Ausschreibung | Beschreibung: Offizielle Ausschreibung mit Bieterfrist. | Link: https://ausschreibungsradar.com/ausschreibung/43eb6606-6eee-4a40-ae09-44f1e85cb84f/
URL:https://ausschreibungsradar.com/ausschreibung/43eb6606-6eee-4a40-ae09-44f1e85cb84f/
END:VEVENT
BEGIN:VEVENT
UID:cb317994022b0dc5@ausschreibungsradar.com
DTSTAMP:20260424T133258Z
DTSTART;VALUE=DATE:20251009
DTEND;VALUE=DATE:20251009
SUMMARY:Ausschreibung — Deutschland – Bauarbeiten – Schleswiger Stadtwerke - Kläranl
DESCRIPTION:Phase: Ausschreibung | Beschreibung: Offizielle Ausschreibung mit Bieterfrist. | Link: https://ausschreibungsradar.com/ausschreibung/cc29a8a8-5c10-47e4-8181-2fc95ae53892/
URL:https://ausschreibungsradar.com/ausschreibung/cc29a8a8-5c10-47e4-8181-2fc95ae53892/
END:VEVENT
BEGIN:VEVENT
UID:ce7ca466d7b330bd@ausschreibungsradar.com
DTSTAMP:20260424T133258Z
DTSTART;VALUE=DATE:20251009
DTEND;VALUE=DATE:20251009
SUMMARY:Ausschreibung — Deutschland – Bauarbeiten – Schleswiger Stadtwerke - Kläranl
DESCRIPTION:Phase: Ausschreibung | Beschreibung: Offizielle Ausschreibung mit Bieterfrist. | Link: https://ausschreibungsradar.com/ausschreibung/07ede1c5-9d2f-4dfa-8c07-b8c0b62293ff/
URL:https://ausschreibungsradar.com/ausschreibung/07ede1c5-9d2f-4dfa-8c07-b8c0b62293ff/
END:VEVENT
BEGIN:VEVENT
UID:28d901900d7dbfd4@ausschreibungsradar.com
DTSTAMP:20260424T133258Z
DTSTART;VALUE=DATE:20251009
DTEND;VALUE=DATE:20251009
SUMMARY:Ausschreibung — Deutschland – Bauarbeiten – Schleswiger Stadtwerke - Kläranl
DESCRIPTION:Phase: Ausschreibung | Beschreibung: Offizielle Ausschreibung mit Bieterfrist. | Link: https://ausschreibungsradar.com/ausschreibung/5f8114fe-9f94-4041-a606-04577ca975da/
URL:https://ausschreibungsradar.com/ausschreibung/5f8114fe-9f94-4041-a606-04577ca975da/
END:VEVENT
BEGIN:VEVENT
UID:f6d1c9d785b67816@ausschreibungsradar.com
DTSTAMP:20260424T133258Z
DTSTART;VALUE=DATE:20251010
DTEND;VALUE=DATE:20251010
SUMMARY:Ausschreibung — Deutschland – Bauarbeiten – Schleswiger Stadtwerke - Kläranl
DESCRIPTION:Phase: Ausschreibung | Beschreibung: Offizielle Ausschreibung mit Bieterfrist. | Link: https://ausschreibungsradar.com/ausschreibung/ted-665114-2025/
URL:https://ausschreibungsradar.com/ausschreibung/ted-665114-2025/
END:VEVENT
BEGIN:VEVENT
UID:2adc992a66532bae@ausschreibungsradar.com
DTSTAMP:20260424T133258Z
DTSTART;VALUE=DATE:20251010
DTEND;VALUE=DATE:20251010
SUMMARY:Ausschreibung — Deutschland – Bauarbeiten – Schleswiger Stadtwerke - Kläranl
DESCRIPTION:Phase: Ausschreibung | Beschreibung: Offizielle Ausschreibung mit Bieterfrist. | Link: https://ausschreibungsradar.com/ausschreibung/ted-668088-2025/
URL:https://ausschreibungsradar.com/ausschreibung/ted-668088-2025/
END:VEVENT
END:VCALENDAR
