BEGIN:VCALENDAR
VERSION:2.0
PRODID:-//AusschreibungsRadar//Timeline//DE
CALSCALE:GREGORIAN
METHOD:PUBLISH
X-WR-CALNAME:Projekt Deutschland – Bauarbeiten – 055-25-00575 - TH OWL - Technisc
X-WR-TIMEZONE:Europe/Berlin
BEGIN:VEVENT
UID:f7c73323b899120f@ausschreibungsradar.com
DTSTAMP:20260425T201626Z
DTSTART;VALUE=DATE:20251007
DTEND;VALUE=DATE:20251007
SUMMARY:Zuschlag — Deutschland – Bauarbeiten – 055-25-00575 - TH OWL - Technisc
DESCRIPTION:Phase: Zuschlag | Beschreibung: Vergabeergebnis — Auftrag wurde erteilt oder Verfahren beendet. | Link: https://ausschreibungsradar.com/ausschreibung/ted-655707-2025/
URL:https://ausschreibungsradar.com/ausschreibung/ted-655707-2025/
END:VEVENT
BEGIN:VEVENT
UID:fd2364d60681132c@ausschreibungsradar.com
DTSTAMP:20260425T201626Z
DTSTART;VALUE=DATE:20251010
DTEND;VALUE=DATE:20251010
SUMMARY:Ausschreibung — Deutschland – Bauarbeiten – 055-25-00575 - TH OWL - Technisc
DESCRIPTION:Phase: Ausschreibung | Beschreibung: Offizielle Ausschreibung mit Bieterfrist. | Link: https://ausschreibungsradar.com/ausschreibung/fbd83adb-0ce3-4dbc-a1e0-4c2002fdacdd/
URL:https://ausschreibungsradar.com/ausschreibung/fbd83adb-0ce3-4dbc-a1e0-4c2002fdacdd/
END:VEVENT
BEGIN:VEVENT
UID:2f458f8fe187ef06@ausschreibungsradar.com
DTSTAMP:20260425T201626Z
DTSTART;VALUE=DATE:20251013
DTEND;VALUE=DATE:20251013
SUMMARY:Ausschreibung — Deutschland – Bauarbeiten – 055-25-00575 - TH OWL - Technisc
DESCRIPTION:Phase: Ausschreibung | Beschreibung: Offizielle Ausschreibung mit Bieterfrist. | Link: https://ausschreibungsradar.com/ausschreibung/ted-669413-2025/
URL:https://ausschreibungsradar.com/ausschreibung/ted-669413-2025/
END:VEVENT
END:VCALENDAR
