BEGIN:VCALENDAR
VERSION:2.0
PRODID:-//AusschreibungsRadar//Timeline//DE
CALSCALE:GREGORIAN
METHOD:PUBLISH
X-WR-CALNAME:Projekt Deutschland – Gebäudereinigung – Unterhalts- und Grundreinig
X-WR-TIMEZONE:Europe/Berlin
BEGIN:VEVENT
UID:024f83a8bd0b8fa0@ausschreibungsradar.com
DTSTAMP:20260425T042142Z
DTSTART;VALUE=DATE:20251010
DTEND;VALUE=DATE:20251010
SUMMARY:Ausschreibung — Deutschland – Gebäudereinigung – Unterhalts- und Grundreinig
DESCRIPTION:Phase: Ausschreibung | Beschreibung: Offizielle Ausschreibung mit Bieterfrist. | Link: https://ausschreibungsradar.com/ausschreibung/5d65ecef-2570-45c0-bea8-e41fe11e9529/
URL:https://ausschreibungsradar.com/ausschreibung/5d65ecef-2570-45c0-bea8-e41fe11e9529/
END:VEVENT
BEGIN:VEVENT
UID:8868d59340afa6ea@ausschreibungsradar.com
DTSTAMP:20260425T042142Z
DTSTART;VALUE=DATE:20251013
DTEND;VALUE=DATE:20251013
SUMMARY:Ausschreibung — Deutschland – Gebäudereinigung – Unterhalts- und Grundreinig
DESCRIPTION:Phase: Ausschreibung | Beschreibung: Offizielle Ausschreibung mit Bieterfrist. | Link: https://ausschreibungsradar.com/ausschreibung/ted-669646-2025/
URL:https://ausschreibungsradar.com/ausschreibung/ted-669646-2025/
END:VEVENT
END:VCALENDAR
