BEGIN:VCALENDAR
VERSION:2.0
PRODID:-//AusschreibungsRadar//Timeline//DE
CALSCALE:GREGORIAN
METHOD:PUBLISH
X-WR-CALNAME:Projekt Deutschland – Bauarbeiten – Alsfeld, Carl-Zeiss-Straße - B 6
X-WR-TIMEZONE:Europe/Berlin
BEGIN:VEVENT
UID:e416b9d1a64324d8@ausschreibungsradar.com
DTSTAMP:20260426T021206Z
DTSTART;VALUE=DATE:20231102
DTEND;VALUE=DATE:20231102
SUMMARY:Ausschreibung — Deutschland – Bauarbeiten – Alsfeld\, Carl-Zeiss-Straße - B 6
DESCRIPTION:Phase: Ausschreibung | Beschreibung: Offizielle Ausschreibung mit Bieterfrist. | Link: https://ausschreibungsradar.com/ausschreibung/d428f7a8-d110-410e-93c5-5119082cf824/
URL:https://ausschreibungsradar.com/ausschreibung/d428f7a8-d110-410e-93c5-5119082cf824/
END:VEVENT
BEGIN:VEVENT
UID:43ab5bc44955ab89@ausschreibungsradar.com
DTSTAMP:20260426T021206Z
DTSTART;VALUE=DATE:20231103
DTEND;VALUE=DATE:20231103
SUMMARY:Ausschreibung — Deutschland – Bauarbeiten – Alsfeld\, Carl-Zeiss-Straße - B 6
DESCRIPTION:Phase: Ausschreibung | Beschreibung: Offizielle Ausschreibung mit Bieterfrist. | Link: https://ausschreibungsradar.com/ausschreibung/ted-671337-2023/
URL:https://ausschreibungsradar.com/ausschreibung/ted-671337-2023/
END:VEVENT
END:VCALENDAR
