BEGIN:VCALENDAR
VERSION:2.0
PRODID:-//AusschreibungsRadar//Timeline//DE
CALSCALE:GREGORIAN
METHOD:PUBLISH
X-WR-CALNAME:Projekt Deutschland – Medizinsoftwarepaket – Einrichtung eines Telek
X-WR-TIMEZONE:Europe/Berlin
BEGIN:VEVENT
UID:d515491eaf765605@ausschreibungsradar.com
DTSTAMP:20260425T142536Z
DTSTART;VALUE=DATE:20231108
DTEND;VALUE=DATE:20231108
SUMMARY:Ausschreibung — Deutschland – Medizinsoftwarepaket – Einrichtung eines Telek
DESCRIPTION:Phase: Ausschreibung | Beschreibung: Offizielle Ausschreibung mit Bieterfrist. | Link: https://ausschreibungsradar.com/ausschreibung/22875c38-7159-442f-833e-ad6dea72755c/
URL:https://ausschreibungsradar.com/ausschreibung/22875c38-7159-442f-833e-ad6dea72755c/
END:VEVENT
BEGIN:VEVENT
UID:6483e8023e215658@ausschreibungsradar.com
DTSTAMP:20260425T142536Z
DTSTART;VALUE=DATE:20231121
DTEND;VALUE=DATE:20231121
SUMMARY:Ausschreibung — Deutschland – Medizinsoftwarepaket – Einrichtung eines Telek
DESCRIPTION:Phase: Ausschreibung | Beschreibung: Offizielle Ausschreibung mit Bieterfrist. | Link: https://ausschreibungsradar.com/ausschreibung/ted-707375-2023/
URL:https://ausschreibungsradar.com/ausschreibung/ted-707375-2023/
END:VEVENT
END:VCALENDAR
