BEGIN:VCALENDAR
VERSION:2.0
PRODID:-//AusschreibungsRadar//Timeline//DE
CALSCALE:GREGORIAN
METHOD:PUBLISH
X-WR-CALNAME:Projekt Deutschland – Entfernung von verschmutztem Boden – Abfuhr un
X-WR-TIMEZONE:Europe/Berlin
BEGIN:VEVENT
UID:1e2a56813bcf5f93@ausschreibungsradar.com
DTSTAMP:20260425T140838Z
DTSTART;VALUE=DATE:20231123
DTEND;VALUE=DATE:20231123
SUMMARY:Ausschreibung — Deutschland – Entfernung von verschmutztem Boden – Abfuhr un
DESCRIPTION:Phase: Ausschreibung | Beschreibung: Offizielle Ausschreibung mit Bieterfrist. | Link: https://ausschreibungsradar.com/ausschreibung/2580beec-2b5d-49fa-9518-126f18db1bc6/
URL:https://ausschreibungsradar.com/ausschreibung/2580beec-2b5d-49fa-9518-126f18db1bc6/
END:VEVENT
BEGIN:VEVENT
UID:44f4d66c507e1284@ausschreibungsradar.com
DTSTAMP:20260425T140838Z
DTSTART;VALUE=DATE:20231127
DTEND;VALUE=DATE:20231127
SUMMARY:Ausschreibung — Deutschland – Entfernung von verschmutztem Boden – Abfuhr un
DESCRIPTION:Phase: Ausschreibung | Beschreibung: Offizielle Ausschreibung mit Bieterfrist. | Link: https://ausschreibungsradar.com/ausschreibung/ted-718726-2023/ | Geschätzter Wert: 988000 €
URL:https://ausschreibungsradar.com/ausschreibung/ted-718726-2023/
END:VEVENT
END:VCALENDAR
