BEGIN:VCALENDAR
VERSION:2.0
PRODID:-//AusschreibungsRadar//Timeline//DE
CALSCALE:GREGORIAN
METHOD:PUBLISH
X-WR-CALNAME:Projekt Deutschland – Dienstleistungen von Architektur- und Ingenieu
X-WR-TIMEZONE:Europe/Berlin
BEGIN:VEVENT
UID:7626760238fbfe53@ausschreibungsradar.com
DTSTAMP:20260425T225633Z
DTSTART;VALUE=DATE:20231214
DTEND;VALUE=DATE:20231214
SUMMARY:Ausschreibung — Deutschland – Dienstleistungen von Architektur- und Ingenieu
DESCRIPTION:Phase: Ausschreibung | Beschreibung: Offizielle Ausschreibung mit Bieterfrist. | Link: https://ausschreibungsradar.com/ausschreibung/31bbfd16-da4b-4e48-8724-74a878254c46/
URL:https://ausschreibungsradar.com/ausschreibung/31bbfd16-da4b-4e48-8724-74a878254c46/
END:VEVENT
BEGIN:VEVENT
UID:fea66a181f807676@ausschreibungsradar.com
DTSTAMP:20260425T225633Z
DTSTART;VALUE=DATE:20231215
DTEND;VALUE=DATE:20231215
SUMMARY:Ausschreibung — Deutschland – Dienstleistungen von Architektur- und Ingenieu
DESCRIPTION:Phase: Ausschreibung | Beschreibung: Offizielle Ausschreibung mit Bieterfrist. | Link: https://ausschreibungsradar.com/ausschreibung/ted-762975-2023/ | Geschätzter Wert: 7500000 €
URL:https://ausschreibungsradar.com/ausschreibung/ted-762975-2023/
END:VEVENT
END:VCALENDAR
