BEGIN:VCALENDAR
VERSION:2.0
PRODID:-//AusschreibungsRadar//Timeline//DE
CALSCALE:GREGORIAN
METHOD:PUBLISH
X-WR-CALNAME:Projekt Deutschland – Bauarbeiten – Hallenbad Sterkrade, Sanierung, 
X-WR-TIMEZONE:Europe/Berlin
BEGIN:VEVENT
UID:e7165c3873c2e632@ausschreibungsradar.com
DTSTAMP:20260426T002429Z
DTSTART;VALUE=DATE:20231220
DTEND;VALUE=DATE:20231220
SUMMARY:Ausschreibung — Deutschland – Bauarbeiten – Hallenbad Sterkrade\, Sanierung\, 
DESCRIPTION:Phase: Ausschreibung | Beschreibung: Offizielle Ausschreibung mit Bieterfrist. | Link: https://ausschreibungsradar.com/ausschreibung/f4748298-b9cb-4f10-8a5c-6053f88b280f/
URL:https://ausschreibungsradar.com/ausschreibung/f4748298-b9cb-4f10-8a5c-6053f88b280f/
END:VEVENT
BEGIN:VEVENT
UID:2fc5a5a406fbd5eb@ausschreibungsradar.com
DTSTAMP:20260426T002429Z
DTSTART;VALUE=DATE:20231221
DTEND;VALUE=DATE:20231221
SUMMARY:Ausschreibung — Deutschland – Bauarbeiten – Hallenbad Sterkrade\, Sanierung\, 
DESCRIPTION:Phase: Ausschreibung | Beschreibung: Offizielle Ausschreibung mit Bieterfrist. | Link: https://ausschreibungsradar.com/ausschreibung/ted-776153-2023/
URL:https://ausschreibungsradar.com/ausschreibung/ted-776153-2023/
END:VEVENT
END:VCALENDAR
