BEGIN:VCALENDAR
VERSION:2.0
PRODID:-//AusschreibungsRadar//Timeline//DE
CALSCALE:GREGORIAN
METHOD:PUBLISH
X-WR-CALNAME:Projekt Deutschland – Bereitstellung von Software – Modernisierung J
X-WR-TIMEZONE:Europe/Berlin
BEGIN:VEVENT
UID:801026b210830b4a@ausschreibungsradar.com
DTSTAMP:20260426T002402Z
DTSTART;VALUE=DATE:20231222
DTEND;VALUE=DATE:20231222
SUMMARY:Zuschlag — Deutschland – Bereitstellung von Software – Modernisierung J
DESCRIPTION:Phase: Zuschlag | Beschreibung: Vergabeergebnis — Auftrag wurde erteilt oder Verfahren beendet. | Link: https://ausschreibungsradar.com/ausschreibung/2ea2eac2-5424-489e-b045-e6902974224d/
URL:https://ausschreibungsradar.com/ausschreibung/2ea2eac2-5424-489e-b045-e6902974224d/
END:VEVENT
BEGIN:VEVENT
UID:b0d5010027c6aea1@ausschreibungsradar.com
DTSTAMP:20260426T002402Z
DTSTART;VALUE=DATE:20231226
DTEND;VALUE=DATE:20231226
SUMMARY:Zuschlag — Deutschland – Bereitstellung von Software – Modernisierung J
DESCRIPTION:Phase: Zuschlag | Beschreibung: Vergabeergebnis — Auftrag wurde erteilt oder Verfahren beendet. | Link: https://ausschreibungsradar.com/ausschreibung/ted-788362-2023/
URL:https://ausschreibungsradar.com/ausschreibung/ted-788362-2023/
END:VEVENT
END:VCALENDAR
