BEGIN:VCALENDAR
VERSION:2.0
PRODID:-//AusschreibungsRadar//Timeline//DE
CALSCALE:GREGORIAN
METHOD:PUBLISH
X-WR-CALNAME:Projekt Deutschland-Hofbieber: IT-Dienste: Beratung, Software-Entwic
X-WR-TIMEZONE:Europe/Berlin
BEGIN:VEVENT
UID:6365e79a8f4d834c@ausschreibungsradar.com
DTSTAMP:20260424T133133Z
DTSTART;VALUE=DATE:20230215
DTEND;VALUE=DATE:20230215
SUMMARY:Zuschlag — Deutschland-Hofbieber: IT-Dienste: Beratung\, Software-Entwic
DESCRIPTION:Phase: Zuschlag | Beschreibung: Vergabeergebnis — Auftrag wurde erteilt oder Verfahren beendet. | Link: https://ausschreibungsradar.com/ausschreibung/ted-95816-2023/
URL:https://ausschreibungsradar.com/ausschreibung/ted-95816-2023/
END:VEVENT
BEGIN:VEVENT
UID:29a6ca79caddc9f7@ausschreibungsradar.com
DTSTAMP:20260424T133133Z
DTSTART;VALUE=DATE:20230217
DTEND;VALUE=DATE:20230217
SUMMARY:Ausschreibung — Deutschland-Hofbieber: IT-Dienste: Beratung\, Software-Entwic
DESCRIPTION:Phase: Ausschreibung | Beschreibung: Offizielle Ausschreibung mit Bieterfrist. | Link: https://ausschreibungsradar.com/ausschreibung/ted-99254-2023/
URL:https://ausschreibungsradar.com/ausschreibung/ted-99254-2023/
END:VEVENT
END:VCALENDAR
